BEGIN:VCALENDAR
VERSION:2.0
PRODID:-//Aspanion - ECPv6.15.20//NONSGML v1.0//EN
CALSCALE:GREGORIAN
METHOD:PUBLISH
X-ORIGINAL-URL:https://aspanion.es
X-WR-CALDESC:Eventos para Aspanion
REFRESH-INTERVAL;VALUE=DURATION:PT1H
X-Robots-Tag:noindex
X-PUBLISHED-TTL:PT1H
BEGIN:VTIMEZONE
TZID:UTC
BEGIN:STANDARD
TZOFFSETFROM:+0000
TZOFFSETTO:+0000
TZNAME:UTC
DTSTART:20190101T000000
END:STANDARD
END:VTIMEZONE
BEGIN:VEVENT
DTSTART;VALUE=DATE:20200124
DTEND;VALUE=DATE:20200125
DTSTAMP:20260423T194022
CREATED:20200116T142641Z
LAST-MODIFIED:20200124T071253Z
UID:2541-1579824000-1579910399@aspanion.es
SUMMARY:CHARLA SOBRE CÁNCER INFANTIL
DESCRIPTION:Una voluntaria superviviente del cáncer infantil junto a una profesional de ASPANION realizarán charlas para los alumnos del centro sobre la realidad del cáncer infantil y la labor de la ONG en el colegio Niño Jesús de Valencia entre las 8 y las 11 de la mañana. \n 
URL:https://aspanion.es/event/accion-de-difusion/
LOCATION:Calle San Clemente\, 1\, Calle San Clemente\, 1\, Valencia\, Valencia\, 46015\, España
CATEGORIES:Acción de difusión
END:VEVENT
BEGIN:VEVENT
DTSTART;TZID=UTC:20200125T190000
DTEND;TZID=UTC:20200125T220000
DTSTAMP:20260423T194022
CREATED:20200116T142342Z
LAST-MODIFIED:20200124T071541Z
UID:2538-1579978800-1579989600@aspanion.es
SUMMARY:DANZA POR ASPANION
DESCRIPTION:El próximo sábado 25 de Enero a las 19 horas la Escuela de Danza Beatriz Arín de Elche va a realizar una Gala de Danza en el Paraninfo de la Universidad de Alicante a beneficio de ASPANION.\nLas entradas se pueden adquirir contactando con la Escuela de Danza Beatriz Arín de Elche en el 965047690 o esa misma tarde desde las 18.30 horas en el Paraninfo de la Universidad de Alicante. Su coste es de 6 €.
URL:https://aspanion.es/event/acto-benefico-danza-por-aspanion/
LOCATION:Elche\, Elche\, Alicante\, España
CATEGORIES:Acto benéfico
END:VEVENT
BEGIN:VEVENT
DTSTART;VALUE=DATE:20200216
DTEND;VALUE=DATE:20200217
DTSTAMP:20260423T194022
CREATED:20191230T103257Z
LAST-MODIFIED:20191230T104838Z
UID:2197-1581811200-1581897599@aspanion.es
SUMMARY:DÍA INTERNACIONAL DEL CÁNCER INFANTIL
DESCRIPTION:
URL:https://aspanion.es/event/dia-internacional-del-cancer-infantil/
LOCATION:Ciudad de las Artes y las Ciencias\, Av. del Professor López Piñero\, 7\, Valencia\, Valencia\, 46013\, España
END:VEVENT
BEGIN:VEVENT
DTSTART;VALUE=DATE:20200517
DTEND;VALUE=DATE:20200518
DTSTAMP:20260423T194022
CREATED:20191230T105528Z
LAST-MODIFIED:20191230T105528Z
UID:2200-1589673600-1589759999@aspanion.es
SUMMARY:5K SOLIDARIA EN VINALESA
DESCRIPTION:
URL:https://aspanion.es/event/5k-solidaria-en-vinalesa/
LOCATION:Vinalesa\, Vinalesa\, Valencia\, 46114\, España
END:VEVENT
END:VCALENDAR