BEGIN:VCALENDAR
VERSION:2.0
PRODID:-//Aspanion - ECPv6.15.20//NONSGML v1.0//EN
CALSCALE:GREGORIAN
METHOD:PUBLISH
X-ORIGINAL-URL:https://aspanion.es
X-WR-CALDESC:Eventos para Aspanion
REFRESH-INTERVAL;VALUE=DURATION:PT1H
X-Robots-Tag:noindex
X-PUBLISHED-TTL:PT1H
BEGIN:VTIMEZONE
TZID:UTC
BEGIN:STANDARD
TZOFFSETFROM:+0000
TZOFFSETTO:+0000
TZNAME:UTC
DTSTART:20170101T000000
END:STANDARD
END:VTIMEZONE
BEGIN:VEVENT
DTSTART;VALUE=DATE:20180930
DTEND;VALUE=DATE:20181001
DTSTAMP:20260426T004057
CREATED:20180807T143638Z
LAST-MODIFIED:20180807T143712Z
UID:132-1538265600-1538351999@aspanion.es
SUMMARY:FIN DE SEMANA SOLIDARIO
DESCRIPTION:Nos espera un fin de semana musical y solidario El domingo 10 de junio os proponemos una cita solidaria con la Gala Benéfica Vive la Voz Kids\, en la que podrán participar todos los niños y niñas que quieran mostrar sus dotes musicales y…
URL:https://aspanion.es/event/fin-de-semana-solidario/
LOCATION:Valencia
END:VEVENT
BEGIN:VEVENT
DTSTART;VALUE=DATE:20180930
DTEND;VALUE=DATE:20181001
DTSTAMP:20260426T004057
CREATED:20180807T143529Z
LAST-MODIFIED:20180807T143743Z
UID:130-1538265600-1538351999@aspanion.es
SUMMARY:RENOVACIÓN DE COMPROMISO CON LA TRANSPARENCIA
DESCRIPTION:ASPANION mantiene su compromiso con la transparencia y buenas prácticas al renovar el Sello de ONG Acreditada que concede la Fundación Lealtad. El sello implica que nuestra entidad cumple los 9 Principios de Transparencia y Buenas Prácticas analizados que son revisados…
URL:https://aspanion.es/event/renovacion-de-compromiso-con-la-transparencia/
LOCATION:Valencia
END:VEVENT
END:VCALENDAR